BEGIN:VCALENDAR
VERSION:2.0
PRODID:-//My Calendar//http://www.joedolson.com//v3.1.2//EN
METHOD:PUBLISH
CALSCALE:GREGORIAN
X-WR-CALNAME:Volksschule Bad Blumau
X-PUBLISHED-TTL:PT24H
REFRESH-INTERVAL;VALUE=DURATION:PT24H
X-WR-CALDESC:Events from Volksschule Bad Blumau
BEGIN:VEVENT
UID:600-563
LOCATION:
SUMMARY:Sporttag
DTSTAMP:20260619T000000
ORGANIZER;CN=Erna Erhart:MAILTO:info@hitondisc.at
DTSTART;TZID=Europe/Berlin:20260619T000000
DTEND;TZID=Europe/Berlin:20260620T000000
URL;VALUE=URI:https://www.volksschule.vs-badblumau.at/my-calendar/
DESCRIPTION: 
CATEGORIES:General
X-FUNAMBOL-ALLDAY: 1
X-MICROSOFT-CDO-ALLDAYEVENT: TRUE

END:VEVENT
END:VCALENDAR